BEGIN:VCALENDAR
VERSION:2.0
PRODID:-//Amma - ECPv6.15.20//NONSGML v1.0//EN
CALSCALE:GREGORIAN
METHOD:PUBLISH
X-ORIGINAL-URL:https://amma.nl
X-WR-CALDESC:Evenementen voor Amma
REFRESH-INTERVAL;VALUE=DURATION:PT1H
X-Robots-Tag:noindex
X-PUBLISHED-TTL:PT1H
BEGIN:VTIMEZONE
TZID:Europe/Amsterdam
BEGIN:DAYLIGHT
TZOFFSETFROM:+0100
TZOFFSETTO:+0200
TZNAME:CEST
DTSTART:20240331T010000
END:DAYLIGHT
BEGIN:STANDARD
TZOFFSETFROM:+0200
TZOFFSETTO:+0100
TZNAME:CET
DTSTART:20241027T010000
END:STANDARD
BEGIN:DAYLIGHT
TZOFFSETFROM:+0100
TZOFFSETTO:+0200
TZNAME:CEST
DTSTART:20250330T010000
END:DAYLIGHT
BEGIN:STANDARD
TZOFFSETFROM:+0200
TZOFFSETTO:+0100
TZNAME:CET
DTSTART:20251026T010000
END:STANDARD
BEGIN:DAYLIGHT
TZOFFSETFROM:+0100
TZOFFSETTO:+0200
TZNAME:CEST
DTSTART:20260329T010000
END:DAYLIGHT
BEGIN:STANDARD
TZOFFSETFROM:+0200
TZOFFSETTO:+0100
TZNAME:CET
DTSTART:20261025T010000
END:STANDARD
END:VTIMEZONE
BEGIN:VEVENT
DTSTART;TZID=Europe/Amsterdam:20251116T040000
DTEND;TZID=Europe/Amsterdam:20251116T235900
DTSTAMP:20260421T110606
CREATED:20251012T203715Z
LAST-MODIFIED:20251025T093208Z
UID:19180-1763265600-1763337540@amma.nl
SUMMARY:Busreis naar Amma in Hof Herrenberg
DESCRIPTION:De busreis gaat door\n\n\n\nDagtocht naar Amma in Hof Herrenberg\n\n\n\nZondag 16 november van 04:00 tot 02:00 uur \n\n\n\nBeleef een bijzondere dag met andere Nederlandse devotees! \n\n\n\nGa mee op een inspirerende dagreis naar Amma in Hof Herrenberg (Duitsland) – een unieke kans om Amma te ontmoeten en samen met een groep van circa 60 Nederlandse devotees deze bijzondere ervaring te delen. De dag is niet alleen een spirituele belevenis\, maar ook een belangrijke fondswerving voor het Amma-programma in Nederland. \n\n\n\nWe vertrekken heel vroeg in de ochtend en komen rond 11 uur aan bij Amma’s programma. Je beleeft dan de welkomst ceremonie\, Amma’s satsang en bhajans. Rond half 2 start Amma’s darshan. Er is een grote kans dat we darshan mogen ontvangen\, maar dat is niet gegarandeerd\, het hangt af van de drukte op dat moment. Als we voor 11 uur aankomen is de kans groot dat het lukt. We zullen er in ieder geval alles aan doen om het mogelijk te maken! \n\n\n\nReisplanning\n\n\n\n\nVertrek: rond 03.30 uur ’s ochtends vanaf het Amma Centrum in Nederland\n\n\n\n Aankomst in Hof Herrenberg: ongeveer 11.00 uur \n\n\n\nBeleef het programma met Amma – een dag vol spirituele diepgang en verbondenheid\, met Amma\, en geniet van het heerlijke Duitse gebak en de Indiase maaltijden \n\n\n\nVertrek terug naar Nederland: rond 19.00–20.00 uur \n\n\n\nAankomst bij het Amma Centrum: circa 01.00  – 2.00 uur ’s nachts\n\n\n\n\nBijdrage\n\n\n\nDe kosten voor deze bijzondere dag bedragen €108.Hiermee draag je tevens bij aan het Amma-programma in Nederland — een prachtige manier om te geven én te ontvangen. \n\n\n\nWaarom je dit niet wilt missen\n\n\n\n\nEen zeldzame gelegenheid om Amma’s ashram in Duitsland te bezoeken \n\n\n\nTijd en ruimte om in rust bij Amma te zijn\, ook als je tijdens het Nederlandse programma veel seva doet \n\n\n\nDe bijzondere energie van samen reizen met een groep Nederlandse devotees \n\n\n\nEen dag vol liefde\, devotie en verbinding\n\n\n\n\nOvernachting\n\n\n\nVoor wie dat prettig vindt\, is het mogelijk om vooraf of na afloop van de reis te overnachten in het Amma Centrum. De kosten hiervoor bedragen15 euro per overnachting. Je kunt dit aangeven op het aanmeldformulier. De overnachting vindt plaats op een twee-persoonskamer of een slaapzaal. Bij veel belangstelling kan uitgeweken worden naar de grote zaal. Graag je eigen beddengoed meebrengen indien mogelijk. \n\n\n\nHet belooft een onvergetelijke en zegenrijke dag te worden! \n\n\n\n \n\n\n\n\nIk meld me aan
URL:https://amma.nl/agenda/busreis-naar-amma/
CATEGORIES:Activiteiten,Amma zondag,Belangrijke events
END:VEVENT
END:VCALENDAR