BEGIN:VCALENDAR
VERSION:2.0
PRODID:-//Amma - ECPv6.15.20//NONSGML v1.0//EN
CALSCALE:GREGORIAN
METHOD:PUBLISH
X-WR-CALNAME:Amma
X-ORIGINAL-URL:https://amma.nl
X-WR-CALDESC:Evenementen voor Amma
REFRESH-INTERVAL;VALUE=DURATION:PT1H
X-Robots-Tag:noindex
X-PUBLISHED-TTL:PT1H
BEGIN:VTIMEZONE
TZID:Europe/Amsterdam
BEGIN:DAYLIGHT
TZOFFSETFROM:+0100
TZOFFSETTO:+0200
TZNAME:CEST
DTSTART:20170326T010000
END:DAYLIGHT
BEGIN:STANDARD
TZOFFSETFROM:+0200
TZOFFSETTO:+0100
TZNAME:CET
DTSTART:20171029T010000
END:STANDARD
BEGIN:DAYLIGHT
TZOFFSETFROM:+0100
TZOFFSETTO:+0200
TZNAME:CEST
DTSTART:20180325T010000
END:DAYLIGHT
BEGIN:STANDARD
TZOFFSETFROM:+0200
TZOFFSETTO:+0100
TZNAME:CET
DTSTART:20181028T010000
END:STANDARD
BEGIN:DAYLIGHT
TZOFFSETFROM:+0100
TZOFFSETTO:+0200
TZNAME:CEST
DTSTART:20190331T010000
END:DAYLIGHT
BEGIN:STANDARD
TZOFFSETFROM:+0200
TZOFFSETTO:+0100
TZNAME:CET
DTSTART:20191027T010000
END:STANDARD
BEGIN:DAYLIGHT
TZOFFSETFROM:+0100
TZOFFSETTO:+0200
TZNAME:CEST
DTSTART:20200329T010000
END:DAYLIGHT
BEGIN:STANDARD
TZOFFSETFROM:+0200
TZOFFSETTO:+0100
TZNAME:CET
DTSTART:20201025T010000
END:STANDARD
BEGIN:DAYLIGHT
TZOFFSETFROM:+0100
TZOFFSETTO:+0200
TZNAME:CEST
DTSTART:20210328T010000
END:DAYLIGHT
BEGIN:STANDARD
TZOFFSETFROM:+0200
TZOFFSETTO:+0100
TZNAME:CET
DTSTART:20211031T010000
END:STANDARD
BEGIN:DAYLIGHT
TZOFFSETFROM:+0100
TZOFFSETTO:+0200
TZNAME:CEST
DTSTART:20220327T010000
END:DAYLIGHT
BEGIN:STANDARD
TZOFFSETFROM:+0200
TZOFFSETTO:+0100
TZNAME:CET
DTSTART:20221030T010000
END:STANDARD
END:VTIMEZONE
BEGIN:VEVENT
DTSTART;TZID=Europe/Amsterdam:20211030T090000
DTEND;TZID=Europe/Amsterdam:20211030T200000
DTSTAMP:20260422T011718
CREATED:20210919T184715Z
LAST-MODIFIED:20220922T120258Z
UID:15521-1635584400-1635624000@amma.nl
SUMMARY:Stilte dag
DESCRIPTION:Amma’s tuin\n				\n				\n			\n			\n				\n				\n				\n				\n			\n				\n				\n				\n				\n				\n				\n				\n				\n				\n				\n				Verstilling van de geest\nStilte is de essentie van het leven. Tijdens deze stilte-retraites willen we het contact met onze innerlijke essentie versterken. \nDe essentie van stilte is niet het “niet spreken”\, het “niet communiceren”\, maar de verstilling van de geest. Onze geest is van nature naar buitengericht. Via de zintuigen wordt de wereld in ons opgenomen en onze wensen en verlangens bewegen ons tot actie om ze te realiseren. \nWe leven in een zeer gejaagde wereld die onze zintuigen voortdurend bombardeert met sterke sensaties en onze verlangens voortdurend prikkelt.  We dreigen daardoor het contact met onze eigen innerlijke kern te verliezen en geleefd te worden door de omstandigheden buiten ons. Door stilte beoefening wordt onze aandacht vanzelf naar binnengericht en kan het contact met onze eigen essentie weer hersteld / versterkt worden. \nStilte beoefening is een vorm van sadhana (spirituele oefening) die je bij alle grote wereldgodsdiensten terugvindt. Volgens de Christelijke traditie leidt de beoefening van stilte je naar  je eigen ziel en via de ziel naar God. Ook Amma zegt dat we alleen in de diepte van zuivere stilte Gods stem kunnen horen. \nNaar binnen richten\nDe retraites zijn erop gericht om praktische technieken aan te dragen en te beoefenen\, die een verstilling van de geest vergemakkelijken. Deze technieken zijn vrij eenvoudig aan te leren en kunnen achteraf ook thuis beoefend worden. Wij zullen deze technieken tijdens de retraite voornamelijk in groep beoefenen. Je kunt dan denken aan het reciteren van de 1.000 namen van de Goddelijke Moeder\, het gezamelijk reciteren van de Gayatri Mantra\, eenvoudige pranayama oefeningen\, geleide relaxatie oefeningen en geleide meditaties. \nEr wordt van de deelnemers gevraagd om vanaf de start van de retraite na de introductie-lezing tot de afsluiting bij de evaluatie\, niet te spreken en de communicatie met andere deelnemers of de staf tot een minimum te beperken. Alleen als het om praktische reden noodzakelijk is kan er met gebarentaal of schriftelijk gecommuniceerd worden. De stem wordt in dit weekend alleen gebruikt voor het reciteren van mantra’s en het zingen van bhajans.  Je zou het kunnen vergelijken met vasten\, niet met het lichaam maar met de geest. Door de communicatie met de buitenwereld te beperken\, geef je je geest zo weinig mogelijk voedsel. Hierdoor wordt je aandacht vanzelf naar binnen gericht. \n  \n  \n			\n			\n				\n				\n				\n				\n				\n				\n				\n				\n				\n				Praktische informatie\nDe Stilte dagen worden gehouden in het Amma Centrum en beginnen om 09:00 uur ’s ochtends en duren tot 20:00 uur ’s avonds. Als je dat wilt dan kun je al om 06:30 uur komen om samen de Archana te doen. Graag bij  aanmelding aangeven. \nWe vragen een onkostenvergoeding van € 65\,- inclusief lunch en avondeten. Als je ook voor de Archana komt\, neem dan zelf ontbijt mee. \n			\n				Ik meld me aan\n			\n				\n				\n				\n				\n				Info\nAls je vragen hebt dan kun je mailen naar stilte@amma.nl of door een berichtje te sturen naar @AmmaCentrumNederland  (Telegram). \nLeiding\nDe stilte dagen worden geleid door Dirk Overlaet.Amma heeft deze vorm van stilte beoefening gezegend en heeft aan Dirk gevraagd om stilte retraties in het Amma Centrum te organiseren. \n  \n \n			\n			\n				\n				\n				\n				\n			\n			\n				\n				\n				\n				\n				\n				\n				\n				\n				\n				“Als je begrijpt dat problemen zich nergens anders dan in je eigen geest bevinden\, kun je beginnen met het verwijderen van je innerlijke zwakheden. Meditatie is de methode om dit voor elkaar te krijgen. De innerlijke stilte\, de kalmte en rust die je verkrijgt door mediteren\, zullen je hierbij helpen.” \n– Amma \n			\n				\n				\n				\n				\n				Agenda
URL:https://amma.nl/agenda/stilte-dag-in-amma-centrum-6/
LOCATION:Amma Centrum\,  Driebergseweg 16A\, Zeist\, 3708 JB
CATEGORIES:Belangrijke events,Stilteretraite
ATTACH;FMTTYPE=image/jpeg:https://amma.nl/wp-content/uploads/2021/08/Stilte-taal-van-de-zie.jpg
END:VEVENT
BEGIN:VEVENT
DTSTART;TZID=Europe/Amsterdam:20201213T100000
DTEND;TZID=Europe/Amsterdam:20201213T113000
DTSTAMP:20260422T011718
CREATED:20220909T152030Z
LAST-MODIFIED:20220909T152034Z
UID:15691-1607853600-1607859000@amma.nl
SUMMARY:IAM opfrissingscursus
DESCRIPTION:Amma’s tuin\n				\n				\n			\n			\n				\n				\n				\n				\n			\n				\n				\n				\n				\n				\n				\n				\n				\n				\n				\n				IAM opfrissingscursus\nDeze cursusis is bedoeld voor iedereen die in het verleden ooit IAM heeft geleerd\, maar niet meer zeker is van alle onderdelen / stappen van de techniek. Onder deskundige begeleiding van een IAM leraar wordt gezamenlijk alle stappen van de IAM techniek doorlopen en is er nadien mogelijkheid tot het stellen van vragen. \nAlleen mensen die eerder de IAM geleerd hebben kunnen deelnemen aan deze cursus. \nAanmelding\nJe kunt je aanmelden door een email te sturen naar iam@amma.nl. \nKosten\nWe vragen een onkostenvergoeding van € 10\,-. Het bedrag kan ter plekke worden betaald\, het liefst per PIN of één strip van de strippenkaart. \nInfo\nBij vragen\, mail naar iam@amma.nl \nLocatie\nAmma Centrum\, Driebergseweg 16a\, Zeist \n			\n			\n				\n				\n				\n				\n			\n				\n				\n				\n				\n				\n				\n				\n				\n				\n				\n				\n				\n			\n			\n				\n				\n				\n				\n			\n			\n				\n				\n				\n				\n				\n				\n				\n				\n				\n				´Meditatie is zo waardevol als goud’\n– Amma\n			\n				\n				\n				\n				\n				Agenda
URL:https://amma.nl/agenda/iam-opfrissingscursus-2/
LOCATION:Amma Centrum\,  Driebergseweg 16A\, Zeist\, 3708 JB
CATEGORIES:Activiteiten,Belangrijke events,IAM cursus
ATTACH;FMTTYPE=image/jpeg:https://amma.nl/wp-content/uploads/2017/11/iam-meditatie-uitgelicht.jpg
END:VEVENT
BEGIN:VEVENT
DTSTART;TZID=Europe/Amsterdam:20201213T100000
DTEND;TZID=Europe/Amsterdam:20201213T113000
DTSTAMP:20260422T011718
CREATED:20220909T152030Z
LAST-MODIFIED:20220909T152034Z
UID:15691-1607853600-1607859000@amma.nl
SUMMARY:IAM opfrissingscursus
DESCRIPTION:Amma’s tuin\n				\n				\n			\n			\n				\n				\n				\n				\n			\n				\n				\n				\n				\n				\n				\n				\n				\n				\n				\n				IAM opfrissingscursus\nDeze cursusis is bedoeld voor iedereen die in het verleden ooit IAM heeft geleerd\, maar niet meer zeker is van alle onderdelen / stappen van de techniek. Onder deskundige begeleiding van een IAM leraar wordt gezamenlijk alle stappen van de IAM techniek doorlopen en is er nadien mogelijkheid tot het stellen van vragen. \nAlleen mensen die eerder de IAM geleerd hebben kunnen deelnemen aan deze cursus. \nAanmelding\nJe kunt je aanmelden door een email te sturen naar iam@amma.nl. \nKosten\nWe vragen een onkostenvergoeding van € 10\,-. Het bedrag kan ter plekke worden betaald\, het liefst per PIN of één strip van de strippenkaart. \nInfo\nBij vragen\, mail naar iam@amma.nl \nLocatie\nAmma Centrum\, Driebergseweg 16a\, Zeist \n			\n			\n				\n				\n				\n				\n			\n				\n				\n				\n				\n				\n				\n				\n				\n				\n				\n				\n				\n			\n			\n				\n				\n				\n				\n			\n			\n				\n				\n				\n				\n				\n				\n				\n				\n				\n				´Meditatie is zo waardevol als goud’\n– Amma\n			\n				\n				\n				\n				\n				Agenda
URL:https://amma.nl/agenda/iam-opfrissingscursus-2/
LOCATION:Amma Centrum\,  Driebergseweg 16A\, Zeist\, 3708 JB
CATEGORIES:Activiteiten,Belangrijke events,IAM cursus
ATTACH;FMTTYPE=image/jpeg:https://amma.nl/wp-content/uploads/2017/11/iam-meditatie-uitgelicht.jpg
END:VEVENT
BEGIN:VEVENT
DTSTART;TZID=Europe/Amsterdam:20180908T091500
DTEND;TZID=Europe/Amsterdam:20180908T171500
DTSTAMP:20260422T011718
CREATED:20220922T095613Z
LAST-MODIFIED:20220922T095613Z
UID:17110-1536398100-1536426900@amma.nl
SUMMARY:Amma's tuin
DESCRIPTION:Kom en help mee bij het onderhoud en laten bloeien van Amma’s tuin! Ervaring is meegenomen maar niet noodzakelijk. \nVaste momenten van tuinseva zijn op:\n– vrijdagmiddag van 13:00 – 17:15 uur\n– om de week op zaterdag (in even weken) vanaf 09:00 tot 17:15 uur\n– het eerste weekend van de maand van vrijdag t/m zondag\nDaarnaast wordt er ook regelmatig op doordeweekse dagen getuinierd. \nOp de tuindagen vinden ook meditaties plaats in het Amma Centrum\, o.a. van 12:30 tot 13:00 uur. Iedereen is daarbij welkom\, geheel vrijblijvend en zonder kosten. De meditaties richten zich op innerlijke verstilling en gebed voor de wereldvrede. \nZin om mee te helpen? Neem even contact op via tuin@amma.nl zodat we je goed kunnen ontvangen en het werk er op af kunnen stemmen. \nMeer informatie \n 
URL:https://amma.nl/agenda/ammastuin/
LOCATION:Driebergseweg 16A\, Zeist\, 3708 JB\, Nederland
ATTACH;FMTTYPE=image/jpeg:https://amma.nl/wp-content/uploads/2018/04/Tuin-hart-brede-slider.jpg
END:VEVENT
BEGIN:VEVENT
DTSTART;TZID=Europe/Amsterdam:20180908T091500
DTEND;TZID=Europe/Amsterdam:20180908T171500
DTSTAMP:20260422T011718
CREATED:20220922T095613Z
LAST-MODIFIED:20220922T095613Z
UID:17110-1536398100-1536426900@amma.nl
SUMMARY:Amma's tuin
DESCRIPTION:Kom en help mee bij het onderhoud en laten bloeien van Amma’s tuin! Ervaring is meegenomen maar niet noodzakelijk. \nVaste momenten van tuinseva zijn op:\n– vrijdagmiddag van 13:00 – 17:15 uur\n– om de week op zaterdag (in even weken) vanaf 09:00 tot 17:15 uur\n– het eerste weekend van de maand van vrijdag t/m zondag\nDaarnaast wordt er ook regelmatig op doordeweekse dagen getuinierd. \nOp de tuindagen vinden ook meditaties plaats in het Amma Centrum\, o.a. van 12:30 tot 13:00 uur. Iedereen is daarbij welkom\, geheel vrijblijvend en zonder kosten. De meditaties richten zich op innerlijke verstilling en gebed voor de wereldvrede. \nZin om mee te helpen? Neem even contact op via tuin@amma.nl zodat we je goed kunnen ontvangen en het werk er op af kunnen stemmen. \nMeer informatie \n 
URL:https://amma.nl/agenda/ammastuin/
LOCATION:Driebergseweg 16A\, Zeist\, 3708 JB\, Nederland
ATTACH;FMTTYPE=image/jpeg:https://amma.nl/wp-content/uploads/2018/04/Tuin-hart-brede-slider.jpg
END:VEVENT
BEGIN:VEVENT
DTSTART;TZID=Europe/Amsterdam:20180908T091500
DTEND;TZID=Europe/Amsterdam:20180908T171500
DTSTAMP:20260422T011718
CREATED:20220922T095613Z
LAST-MODIFIED:20220922T095613Z
UID:17110-1536398100-1536426900@amma.nl
SUMMARY:Amma's tuin
DESCRIPTION:Kom en help mee bij het onderhoud en laten bloeien van Amma’s tuin! Ervaring is meegenomen maar niet noodzakelijk. \nVaste momenten van tuinseva zijn op:\n– vrijdagmiddag van 13:00 – 17:15 uur\n– om de week op zaterdag (in even weken) vanaf 09:00 tot 17:15 uur\n– het eerste weekend van de maand van vrijdag t/m zondag\nDaarnaast wordt er ook regelmatig op doordeweekse dagen getuinierd. \nOp de tuindagen vinden ook meditaties plaats in het Amma Centrum\, o.a. van 12:30 tot 13:00 uur. Iedereen is daarbij welkom\, geheel vrijblijvend en zonder kosten. De meditaties richten zich op innerlijke verstilling en gebed voor de wereldvrede. \nZin om mee te helpen? Neem even contact op via tuin@amma.nl zodat we je goed kunnen ontvangen en het werk er op af kunnen stemmen. \nMeer informatie \n 
URL:https://amma.nl/agenda/ammastuin/
LOCATION:Driebergseweg 16A\, Zeist\, 3708 JB\, Nederland
ATTACH;FMTTYPE=image/jpeg:https://amma.nl/wp-content/uploads/2018/04/Tuin-hart-brede-slider.jpg
END:VEVENT
BEGIN:VEVENT
DTSTART;TZID=Europe/Amsterdam:20180908T091500
DTEND;TZID=Europe/Amsterdam:20180908T171500
DTSTAMP:20260422T011718
CREATED:20220922T095613Z
LAST-MODIFIED:20220922T095613Z
UID:17110-1536398100-1536426900@amma.nl
SUMMARY:Amma's tuin
DESCRIPTION:Kom en help mee bij het onderhoud en laten bloeien van Amma’s tuin! Ervaring is meegenomen maar niet noodzakelijk. \nVaste momenten van tuinseva zijn op:\n– vrijdagmiddag van 13:00 – 17:15 uur\n– om de week op zaterdag (in even weken) vanaf 09:00 tot 17:15 uur\n– het eerste weekend van de maand van vrijdag t/m zondag\nDaarnaast wordt er ook regelmatig op doordeweekse dagen getuinierd. \nOp de tuindagen vinden ook meditaties plaats in het Amma Centrum\, o.a. van 12:30 tot 13:00 uur. Iedereen is daarbij welkom\, geheel vrijblijvend en zonder kosten. De meditaties richten zich op innerlijke verstilling en gebed voor de wereldvrede. \nZin om mee te helpen? Neem even contact op via tuin@amma.nl zodat we je goed kunnen ontvangen en het werk er op af kunnen stemmen. \nMeer informatie \n 
URL:https://amma.nl/agenda/ammastuin/
LOCATION:Driebergseweg 16A\, Zeist\, 3708 JB\, Nederland
ATTACH;FMTTYPE=image/jpeg:https://amma.nl/wp-content/uploads/2018/04/Tuin-hart-brede-slider.jpg
END:VEVENT
BEGIN:VEVENT
DTSTART;TZID=Europe/Amsterdam:20180908T091500
DTEND;TZID=Europe/Amsterdam:20180908T171500
DTSTAMP:20260422T011718
CREATED:20220922T095613Z
LAST-MODIFIED:20220922T095613Z
UID:17110-1536398100-1536426900@amma.nl
SUMMARY:Amma's tuin
DESCRIPTION:Kom en help mee bij het onderhoud en laten bloeien van Amma’s tuin! Ervaring is meegenomen maar niet noodzakelijk. \nVaste momenten van tuinseva zijn op:\n– vrijdagmiddag van 13:00 – 17:15 uur\n– om de week op zaterdag (in even weken) vanaf 09:00 tot 17:15 uur\n– het eerste weekend van de maand van vrijdag t/m zondag\nDaarnaast wordt er ook regelmatig op doordeweekse dagen getuinierd. \nOp de tuindagen vinden ook meditaties plaats in het Amma Centrum\, o.a. van 12:30 tot 13:00 uur. Iedereen is daarbij welkom\, geheel vrijblijvend en zonder kosten. De meditaties richten zich op innerlijke verstilling en gebed voor de wereldvrede. \nZin om mee te helpen? Neem even contact op via tuin@amma.nl zodat we je goed kunnen ontvangen en het werk er op af kunnen stemmen. \nMeer informatie \n 
URL:https://amma.nl/agenda/ammastuin/
LOCATION:Driebergseweg 16A\, Zeist\, 3708 JB\, Nederland
ATTACH;FMTTYPE=image/jpeg:https://amma.nl/wp-content/uploads/2018/04/Tuin-hart-brede-slider.jpg
END:VEVENT
BEGIN:VEVENT
DTSTART;TZID=Europe/Amsterdam:20180908T091500
DTEND;TZID=Europe/Amsterdam:20180908T171500
DTSTAMP:20260422T011718
CREATED:20220922T095613Z
LAST-MODIFIED:20220922T095613Z
UID:17110-1536398100-1536426900@amma.nl
SUMMARY:Amma's tuin
DESCRIPTION:Kom en help mee bij het onderhoud en laten bloeien van Amma’s tuin! Ervaring is meegenomen maar niet noodzakelijk. \nVaste momenten van tuinseva zijn op:\n– vrijdagmiddag van 13:00 – 17:15 uur\n– om de week op zaterdag (in even weken) vanaf 09:00 tot 17:15 uur\n– het eerste weekend van de maand van vrijdag t/m zondag\nDaarnaast wordt er ook regelmatig op doordeweekse dagen getuinierd. \nOp de tuindagen vinden ook meditaties plaats in het Amma Centrum\, o.a. van 12:30 tot 13:00 uur. Iedereen is daarbij welkom\, geheel vrijblijvend en zonder kosten. De meditaties richten zich op innerlijke verstilling en gebed voor de wereldvrede. \nZin om mee te helpen? Neem even contact op via tuin@amma.nl zodat we je goed kunnen ontvangen en het werk er op af kunnen stemmen. \nMeer informatie \n 
URL:https://amma.nl/agenda/ammastuin/
LOCATION:Driebergseweg 16A\, Zeist\, 3708 JB\, Nederland
ATTACH;FMTTYPE=image/jpeg:https://amma.nl/wp-content/uploads/2018/04/Tuin-hart-brede-slider.jpg
END:VEVENT
BEGIN:VEVENT
DTSTART;TZID=Europe/Amsterdam:20180908T091500
DTEND;TZID=Europe/Amsterdam:20180908T171500
DTSTAMP:20260422T011718
CREATED:20220922T095613Z
LAST-MODIFIED:20220922T095613Z
UID:17110-1536398100-1536426900@amma.nl
SUMMARY:Amma's tuin
DESCRIPTION:Kom en help mee bij het onderhoud en laten bloeien van Amma’s tuin! Ervaring is meegenomen maar niet noodzakelijk. \nVaste momenten van tuinseva zijn op:\n– vrijdagmiddag van 13:00 – 17:15 uur\n– om de week op zaterdag (in even weken) vanaf 09:00 tot 17:15 uur\n– het eerste weekend van de maand van vrijdag t/m zondag\nDaarnaast wordt er ook regelmatig op doordeweekse dagen getuinierd. \nOp de tuindagen vinden ook meditaties plaats in het Amma Centrum\, o.a. van 12:30 tot 13:00 uur. Iedereen is daarbij welkom\, geheel vrijblijvend en zonder kosten. De meditaties richten zich op innerlijke verstilling en gebed voor de wereldvrede. \nZin om mee te helpen? Neem even contact op via tuin@amma.nl zodat we je goed kunnen ontvangen en het werk er op af kunnen stemmen. \nMeer informatie \n 
URL:https://amma.nl/agenda/ammastuin/
LOCATION:Driebergseweg 16A\, Zeist\, 3708 JB\, Nederland
ATTACH;FMTTYPE=image/jpeg:https://amma.nl/wp-content/uploads/2018/04/Tuin-hart-brede-slider.jpg
END:VEVENT
BEGIN:VEVENT
DTSTART;TZID=Europe/Amsterdam:20180908T091500
DTEND;TZID=Europe/Amsterdam:20180908T171500
DTSTAMP:20260422T011718
CREATED:20220922T095613Z
LAST-MODIFIED:20220922T095613Z
UID:17110-1536398100-1536426900@amma.nl
SUMMARY:Amma's tuin
DESCRIPTION:Kom en help mee bij het onderhoud en laten bloeien van Amma’s tuin! Ervaring is meegenomen maar niet noodzakelijk. \nVaste momenten van tuinseva zijn op:\n– vrijdagmiddag van 13:00 – 17:15 uur\n– om de week op zaterdag (in even weken) vanaf 09:00 tot 17:15 uur\n– het eerste weekend van de maand van vrijdag t/m zondag\nDaarnaast wordt er ook regelmatig op doordeweekse dagen getuinierd. \nOp de tuindagen vinden ook meditaties plaats in het Amma Centrum\, o.a. van 12:30 tot 13:00 uur. Iedereen is daarbij welkom\, geheel vrijblijvend en zonder kosten. De meditaties richten zich op innerlijke verstilling en gebed voor de wereldvrede. \nZin om mee te helpen? Neem even contact op via tuin@amma.nl zodat we je goed kunnen ontvangen en het werk er op af kunnen stemmen. \nMeer informatie \n 
URL:https://amma.nl/agenda/ammastuin/
LOCATION:Driebergseweg 16A\, Zeist\, 3708 JB\, Nederland
ATTACH;FMTTYPE=image/jpeg:https://amma.nl/wp-content/uploads/2018/04/Tuin-hart-brede-slider.jpg
END:VEVENT
BEGIN:VEVENT
DTSTART;TZID=Europe/Amsterdam:20180908T091500
DTEND;TZID=Europe/Amsterdam:20180908T171500
DTSTAMP:20260422T011718
CREATED:20220922T095613Z
LAST-MODIFIED:20220922T095613Z
UID:17110-1536398100-1536426900@amma.nl
SUMMARY:Amma's tuin
DESCRIPTION:Kom en help mee bij het onderhoud en laten bloeien van Amma’s tuin! Ervaring is meegenomen maar niet noodzakelijk. \nVaste momenten van tuinseva zijn op:\n– vrijdagmiddag van 13:00 – 17:15 uur\n– om de week op zaterdag (in even weken) vanaf 09:00 tot 17:15 uur\n– het eerste weekend van de maand van vrijdag t/m zondag\nDaarnaast wordt er ook regelmatig op doordeweekse dagen getuinierd. \nOp de tuindagen vinden ook meditaties plaats in het Amma Centrum\, o.a. van 12:30 tot 13:00 uur. Iedereen is daarbij welkom\, geheel vrijblijvend en zonder kosten. De meditaties richten zich op innerlijke verstilling en gebed voor de wereldvrede. \nZin om mee te helpen? Neem even contact op via tuin@amma.nl zodat we je goed kunnen ontvangen en het werk er op af kunnen stemmen. \nMeer informatie \n 
URL:https://amma.nl/agenda/ammastuin/
LOCATION:Driebergseweg 16A\, Zeist\, 3708 JB\, Nederland
ATTACH;FMTTYPE=image/jpeg:https://amma.nl/wp-content/uploads/2018/04/Tuin-hart-brede-slider.jpg
END:VEVENT
END:VCALENDAR