BEGIN:VCALENDAR
VERSION:2.0
PRODID:-//Amma - ECPv6.15.20//NONSGML v1.0//EN
CALSCALE:GREGORIAN
METHOD:PUBLISH
X-ORIGINAL-URL:https://amma.nl
X-WR-CALDESC:Evenementen voor Amma
REFRESH-INTERVAL;VALUE=DURATION:PT1H
X-Robots-Tag:noindex
X-PUBLISHED-TTL:PT1H
BEGIN:VTIMEZONE
TZID:Europe/Amsterdam
BEGIN:DAYLIGHT
TZOFFSETFROM:+0100
TZOFFSETTO:+0200
TZNAME:CEST
DTSTART:20240331T010000
END:DAYLIGHT
BEGIN:STANDARD
TZOFFSETFROM:+0200
TZOFFSETTO:+0100
TZNAME:CET
DTSTART:20241027T010000
END:STANDARD
BEGIN:DAYLIGHT
TZOFFSETFROM:+0100
TZOFFSETTO:+0200
TZNAME:CEST
DTSTART:20250330T010000
END:DAYLIGHT
BEGIN:STANDARD
TZOFFSETFROM:+0200
TZOFFSETTO:+0100
TZNAME:CET
DTSTART:20251026T010000
END:STANDARD
BEGIN:DAYLIGHT
TZOFFSETFROM:+0100
TZOFFSETTO:+0200
TZNAME:CEST
DTSTART:20260329T010000
END:DAYLIGHT
BEGIN:STANDARD
TZOFFSETFROM:+0200
TZOFFSETTO:+0100
TZNAME:CET
DTSTART:20261025T010000
END:STANDARD
END:VTIMEZONE
BEGIN:VEVENT
DTSTART;TZID=Europe/Amsterdam:20250809T100000
DTEND;TZID=Europe/Amsterdam:20250810T160000
DTSTAMP:20260421T230116
CREATED:20250611T132945Z
LAST-MODIFIED:20250721T083706Z
UID:18756-1754733600-1754841600@amma.nl
SUMMARY:IAM cursus
DESCRIPTION:IAM meditatie cursus op zaterdag 9 en zondag 10 augustus\nDe IAM® (Integrale Amrita Meditatie techniek) is ontstaan uit Amma’s diepe verlangen om ons te helpen groeien. IAM is geworteld in de rijke wijsheidstraditie van het oude India. Het omvat een aantal eenvoudige yoga – en ontspanningsoefeningen en een geleide meditatie. \nAmma heeft de IAM techniek in 2003 voor het eerst aan haar naaste leerlingen overgedragen. Op dit moment wordt de techniek overal ter wereld onderwezen door speciaal getrainde leraren. IAM is toegesneden op de tijd van nu. De techniek is simpel en eenvoudig te leren. \nBovendien kost IAM meditatie weinig tijd: 35 minuten per dag. Het effect is echter groot. Dagelijkse beoefening van IAM brengt je innerlijke rust en balans. \nPraktische informatie\nHet leren van IAM duurt 2 dagen. De cursus is op zaterdag 9 en zondag 10 augustus van 10:00 uur ’s ochtends tot 16:00 uur. Inloop vanaf 9:30 uur – thee staat klaar.Overnachten in het Amma Centrum is mogelijk. \nGraag gemakkelijke kleding aan waarin je buik de ruimte heeft. Warme sokken en een dekentje of poncho kunnen fijn zijn voor de liggende ontspanningsmomenten. Yoga mat en meditatiekussen zijn aanwezig\, maar je kunt ook je eigen spullen meenemen als dat je voorkeur heeft. We gaan vooral praktisch aan de slag met yoga en meditatie. Pen en papier kunnen fijn zijn voor korte aantekeningen. \nKostenWe vragen een onkostenvergoeding van € 65\,-. Dat is inclusief koffie en thee\, een warme vegetarische lunch op zaterdagmiddag en soep en brood op zondagmiddag. \nAls je graag wil overnachten dan kan dat. In het Centrum zijn er tweepersoonskamers en slaapzalen aanwezig\, met gedeeld toilet en badkamers. De kosten voor de overnachting zijn 25 euro voor een tweepersoonskamer/slaapzaal en 35 euro voor een eenpersoonskamer (indien beschikbaar). De avondmaaltijd (broodmaaltijd met soep) kost 8 euro en het ontbijt 6 euro. \nHet is Amma’s uitdrukkelijke wens om de cursus gratis aan te bieden. Een donatie voor Amma’s Embracing the World projecten wordt zeer op prijs gesteld. \nIk meld me aan\nInfoBij vragen\, mail naar iam@amma.nl \nLocatieAmma Centrum\, Driebergseweg 16a\, Zeist
URL:https://amma.nl/agenda/iam-cursus-4/
CATEGORIES:Belangrijke events,IAM cursus
ATTACH;FMTTYPE=image/jpeg:https://amma.nl/wp-content/uploads/2017/12/iam-volwassenen-header.jpg
END:VEVENT
BEGIN:VEVENT
DTSTART;TZID=Europe/Amsterdam:20250823T090000
DTEND;TZID=Europe/Amsterdam:20250823T200000
DTSTAMP:20260421T230116
CREATED:20250723T070036Z
LAST-MODIFIED:20250813T125536Z
UID:18869-1755939600-1755979200@amma.nl
SUMMARY:Stiltedag
DESCRIPTION:Zaterdag 23 augustus – 9:00 – 20:00 uur\n\n\n\n\n\n\n\n  \n\n\n\nStilte is de essentie van het leven. Tijdens deze stilte-retraites willen we het contact met onze innerlijke essentie versterken. \n\n\n\nDe essentie van stilte is niet het “niet spreken”\, het “niet communiceren”\, maar de verstilling van de geest. Onze geest is van nature naar buitengericht. Via de zintuigen wordt de wereld in ons opgenomen en onze wensen en verlangens bewegen ons tot actie om ze te realiseren. \n\n\n\nWe leven in een zeer gejaagde wereld die onze zintuigen voortdurend bombardeert met sterke sensaties en onze verlangens voortdurend prikkelt.  We dreigen daardoor het contact met onze eigen innerlijke kern te verliezen en geleefd te worden door de omstandigheden buiten ons. Door stilte beoefening wordt onze aandacht vanzelf naar binnengericht en kan het contact met onze eigen essentie weer hersteld / versterkt worden. \n\n\n\nStilte beoefening is een vorm van sadhana (spirituele oefening) die je bij alle grote wereldgodsdiensten terugvindt. Volgens de Christelijke traditie leidt de beoefening van stilte je naar  je eigen ziel en via de ziel naar God. Ook Amma zegt dat we alleen in de diepte van zuivere stilte Gods stem kunnen horen. \n\n\n\nNaar binnen richten\n\n\n\nDe retraites zijn erop gericht om praktische technieken aan te dragen en te beoefenen\, die een verstilling van de geest vergemakkelijken. Deze technieken zijn vrij eenvoudig aan te leren en kunnen achteraf ook thuis beoefend worden. Wij zullen deze technieken tijdens de retraite voornamelijk in groep beoefenen. Je kunt dan denken aan het reciteren van de 1.000 namen van de Goddelijke Moeder\, het gezamelijk reciteren van de Gayatri Mantra\, eenvoudige pranayama oefeningen\, geleide relaxatie oefeningen en geleide meditaties. \n\n\n\nEr wordt van de deelnemers gevraagd om vanaf de start van de retraite na de introductie-lezing tot de afsluiting bij de evaluatie\, niet te spreken en de communicatie met andere deelnemers of de staf tot een minimum te beperken. Alleen als het om praktische reden noodzakelijk is kan er met gebarentaal of schriftelijk gecommuniceerd worden. De stem wordt in dit weekend alleen gebruikt voor het reciteren van mantra’s en het zingen van bhajans.  Je zou het kunnen vergelijken met vasten\, niet met het lichaam maar met de geest. Door de communicatie met de buitenwereld te beperken\, geef je je geest zo weinig mogelijk voedsel. Hierdoor wordt je aandacht vanzelf naar binnen gericht. \n\n\n\nPraktische informatie\n\n\n\nDe Stiltedagen worden gehouden in het Amma Centrum en beginnen om 09:00 uur ‘s ochtends en duren tot 20:00 uur ‘s avonds. Als je dat wilt dan kun je al om 06:30 uur komen om samen de Archana te doen. Graag bij  aanmelding aangeven. Je kunt van tevoren overnachten in het Amma Centrum. Neem dan contact op met centrum@amma.nl. \n\n\n\nWe vragen een onkostenvergoeding van € 65\,- inclusief lunch en avondeten. Als je ook voor de Archana komt\, neem dan zelf ontbijt mee. \n\n\n\nEr is ook de mogelijkheid om van tevoren (vrijdagavond) of nadien (zaterdagavond) te overnachten. De prijs van de overnachting bedraagt € 25\,- voor een tweepersoonskamer/slaapzaal en € 35\,-  voor een éénpersoonskamer Je kunt dit aangeven in het opmerkingenveld van het inschrijfformulier. \n\n\nIk meld me aan\n\n\n\n  \n\n\n\nInfo\n\n\n\nAls je vragen hebt dan kun je mailen naar stilte@amma.nl of door een berichtje te sturen naar @AmmaCentrumNederland  (Telegram). \n\n\n\nLeiding\n\n\n\nDe stilte dagen worden geleid door Amarnath Overlaet.Amma heeft deze vorm van stilte beoefening gezegend en heeft aan Amarnath gevraagd om stilte retraties in het Amma Centrum te organiseren. \n\n\n\n\n\n\n\n 
URL:https://amma.nl/agenda/stilte-dag-19/
CATEGORIES:Belangrijke events,Stilteretraite
ATTACH;FMTTYPE=image/png:https://amma.nl/wp-content/uploads/2025/08/Stiltedag-1200-x-675-px1.png
END:VEVENT
BEGIN:VEVENT
DTSTART;TZID=Europe/Amsterdam:20250830T100000
DTEND;TZID=Europe/Amsterdam:20250830T170000
DTSTAMP:20260421T230116
CREATED:20250813T123433Z
LAST-MODIFIED:20250825T092406Z
UID:18897-1756548000-1756573200@amma.nl
SUMMARY:Ganesha Puja
DESCRIPTION:Zaterdag 30 augustus – 10:00 – 17:00 uur\n\n\n\n\n\n\n\nDit jaar valt de geboortedag van de Hindoe God Ganesha op woensdag 27 augustus en wordt traditioneel Ganesha Chathurthi genoemd. Deze verjaardag vieren we in ons Amma Centrum op zaterdag 30 augustus. Het is traditiie om voor deze gelegenheid een murthi (beeld) van Ganesha te maken\, deze murthi te aanbidden en na enkele dagen in een rivier of in zee te dragen.. \n\n\n\nOp 30 augustus beginnen we rond 10:00 uur met het maken van onze eigen murthi’s in klei. Daarna doen we onder begeleiding een korte puja voor onze eigen murthi. Dit is een ceremoniële aanbidding met bloemen voor je eigen Ganesha beeldje. Vervolgens is er een feestelijke lunch met hartige en zoete snacks. \n\n\n\nGanesha is een van de favoriete goden in het Hindoeïsme. Hij is liefdevol en genereus en er zijn veel lekkernijen geassocieerd met Ganesha Chathurthi\, zoals modaks (een zoete lekkernij uit India). Eén van de namen van Ganesha is Modakapriya (iemand die van Modaka houdt). Dus een uitgebreide lunch sluit mooi aan bij deze gelegenheid. \n\n\n\nZet zaterdag 30 augustus dus alvast in je agenda en vier dit feest mee! \n\n\n\nAls je meer achtergrond wilt krijgen over Ganesha klik dan hier \n\n\n\nProgramma\n\n\n\n\n09:30 -10:00 Inloop met koffie/thee\n\n\n\n10:00 -10:15 Inleiding tot dagprogramma\n\n\n\n10:15 -11:30 Murthi’s (beelden van klei) maken\n\n\n\n11:30 -12:00 Pauze/Tweede inloop moment\n\n\n\n12:00 -13:00 Puja voor Ganesha Murthi\, arati/shanti mantra’s en afsluiting\n\n\n\n13:00 -15:00 Feestelijke lunch met hartige en zoete lekkernijen\n\n\n\n15:00-16:00 Opruimen Seva\n\n\n\n\nAanmelden\n\n\n\nJe kunt je aanmelden via het inschrijfformulier. Een belangrijk onderdeel van de dag is de geleide puja voor je eigen Ganesha. Als je liever je eigen Ganesha meebrengt dan kun je dat aangeven op het formulier. In dat geval ben je vanaf 12:00 uur welkom. \n\n\n\nElke deelnemer doet onder begeleiding een puja (korte ceremonie) voor zijn eigen Ganesha. Deze puja\, begint om 12:30 uur. Na inschrijving sturen we je informatie over wat je van thuis uit kunt meenemen voor deze puja. \n\n\n\nDe kosten voor deze dag bedragen € 45\,- per persoon. \n\n\n\nVoor vragen kun je een mailtje sturen naar ganesha@amma.nl \n\n\nIk meld me aan\n\n\n\n  \n\n\n\nHieronder vind je een instructie video om je eigen Ganesh te maken in klei. Er zijn verschillende YouTube filmpjes over dit onderwerp te vinden. Dit is maar een voorbeeld ter inspiratie. \n\n\n\n  \n\n\nhttps://www.youtube.com/watch?v=vCw4vtPjYYY
URL:https://amma.nl/agenda/ganesha-puja-3/
LOCATION:Amma Centrum\,  Driebergseweg 16A\, Zeist\, 3708 JB
CATEGORIES:Belangrijke events,Feestdagen
ATTACH;FMTTYPE=image/png:https://amma.nl/wp-content/uploads/2025/07/Ganesha-Chaturthi-2025.png
END:VEVENT
END:VCALENDAR