BEGIN:VCALENDAR
VERSION:2.0
PRODID:-//Amma - ECPv6.15.20//NONSGML v1.0//EN
CALSCALE:GREGORIAN
METHOD:PUBLISH
X-ORIGINAL-URL:https://amma.nl
X-WR-CALDESC:Evenementen voor Amma
REFRESH-INTERVAL;VALUE=DURATION:PT1H
X-Robots-Tag:noindex
X-PUBLISHED-TTL:PT1H
BEGIN:VTIMEZONE
TZID:Europe/Amsterdam
BEGIN:DAYLIGHT
TZOFFSETFROM:+0100
TZOFFSETTO:+0200
TZNAME:CEST
DTSTART:20240331T010000
END:DAYLIGHT
BEGIN:STANDARD
TZOFFSETFROM:+0200
TZOFFSETTO:+0100
TZNAME:CET
DTSTART:20241027T010000
END:STANDARD
BEGIN:DAYLIGHT
TZOFFSETFROM:+0100
TZOFFSETTO:+0200
TZNAME:CEST
DTSTART:20250330T010000
END:DAYLIGHT
BEGIN:STANDARD
TZOFFSETFROM:+0200
TZOFFSETTO:+0100
TZNAME:CET
DTSTART:20251026T010000
END:STANDARD
BEGIN:DAYLIGHT
TZOFFSETFROM:+0100
TZOFFSETTO:+0200
TZNAME:CEST
DTSTART:20260329T010000
END:DAYLIGHT
BEGIN:STANDARD
TZOFFSETFROM:+0200
TZOFFSETTO:+0100
TZNAME:CET
DTSTART:20261025T010000
END:STANDARD
END:VTIMEZONE
BEGIN:VEVENT
DTSTART;TZID=Europe/Amsterdam:20250907T140000
DTEND;TZID=Europe/Amsterdam:20250907T160000
DTSTAMP:20260421T213455
CREATED:20251201T074650Z
LAST-MODIFIED:20251201T074755Z
UID:19593-1757253600-1757260800@amma.nl
SUMMARY:Satsang op Zondag
DESCRIPTION:Zondag 7 december – 14:00 – 16:00 uur\n\n\n\n\n\n\n\nDit is de eerste keer dat we weer samen komen in het Amma Centrum na Amma’s bezoek aan Nederland en aan het Centrum. Tijdens haar bezoek aan het Centrum heeft Amma een puja voor het altaar in de grote zaal gedaan. Daarom zullen we dit keer de satsang ook in de grote zaal houden. Iedereen is van harte welkom! \n\n\n\nDe satsang begint om 14:00 uur en is om 16:00 uur afgelopen. De satsang van aanstaande  donderdag komt te vervallen. \n\n\n\nDeze satsang wordt ook online gestreamd. Je kunt de online stream volgen via ons YouTube-kanaal: https://YouTube.com/AmmaCentrumNederland \n\n\n\nEen dag van tevoren sturen we de link door via de Amma Centrum Nederland Whatsappgroep/Telegram en Signal groep \n\n\n\nAanmelden van tevoren is niet nodig. \n\n\n\nKosten\n\n\n\nDe Satsang  is vrij toegankelijk. Een algemene donatie voor het Amma Centrum wordt op prijsgesteld. \n\n\n\n“Zing\, mijn kinderen\, vanuit de diepten van je hart. Laat je hart smelten in gebed. Er is geen grotere vreugde dan het zingen van de naam van God. Bhajans zingen is voor ons alsof je alle vuil dat zich in je hart heeft opgestapeld\, eruit zuivert. Laat al je verlegenheid varen en open je hart voor God”– Amma \n\n\n\n 
URL:https://amma.nl/agenda/satsang-op-zondag-16/
CATEGORIES:Belangrijke events,Bhajanavond,Satsang op zondag
ATTACH;FMTTYPE=image/jpeg:https://amma.nl/wp-content/uploads/2024/05/Amma-dolak.jpg
END:VEVENT
BEGIN:VEVENT
DTSTART;TZID=Europe/Amsterdam:20250920T090000
DTEND;TZID=Europe/Amsterdam:20250920T200000
DTSTAMP:20260421T213455
CREATED:20250902T210953Z
LAST-MODIFIED:20251130T170131Z
UID:18975-1758358800-1758398400@amma.nl
SUMMARY:Stiltedag
DESCRIPTION:Zaterdag 23 augustus – 9:00 – 20:00 uur\n\n\n\n\n\n\n\nZaterdag 20 september van 09:00 – 20:00 uur\n\n\n\n \n\n\n\nStilte is de essentie van het leven. Tijdens deze stilte-retraites willen we het contact met onze innerlijke essentie versterken. \n\n\n\nDe essentie van stilte is niet het “niet spreken”\, het “niet communiceren”\, maar de verstilling van de geest. Onze geest is van nature naar buitengericht. Via de zintuigen wordt de wereld in ons opgenomen en onze wensen en verlangens bewegen ons tot actie om ze te realiseren. \n\n\n\nWe leven in een zeer gejaagde wereld die onze zintuigen voortdurend bombardeert met sterke sensaties en onze verlangens voortdurend prikkelt.  We dreigen daardoor het contact met onze eigen innerlijke kern te verliezen en geleefd te worden door de omstandigheden buiten ons. Door stilte beoefening wordt onze aandacht vanzelf naar binnengericht en kan het contact met onze eigen essentie weer hersteld / versterkt worden. \n\n\n\nStilte beoefening is een vorm van sadhana (spirituele oefening) die je bij alle grote wereldgodsdiensten terugvindt. Volgens de Christelijke traditie leidt de beoefening van stilte je naar  je eigen ziel en via de ziel naar God. Ook Amma zegt dat we alleen in de diepte van zuivere stilte Gods stem kunnen horen. \n\n\n\nNaar binnen richten\n\n\n\nDe retraites zijn erop gericht om praktische technieken aan te dragen en te beoefenen\, die een verstilling van de geest vergemakkelijken. Deze technieken zijn vrij eenvoudig aan te leren en kunnen achteraf ook thuis beoefend worden. Wij zullen deze technieken tijdens de retraite voornamelijk in groep beoefenen. Je kunt dan denken aan het reciteren van de 1.000 namen van de Goddelijke Moeder\, het gezamelijk reciteren van de Gayatri Mantra\, eenvoudige pranayama oefeningen\, geleide relaxatie oefeningen en geleide meditaties. \n\n\n\nEr wordt van de deelnemers gevraagd om vanaf de start van de retraite na de introductie-lezing tot de afsluiting bij de evaluatie\, niet te spreken en de communicatie met andere deelnemers of de staf tot een minimum te beperken. Alleen als het om praktische reden noodzakelijk is kan er met gebarentaal of schriftelijk gecommuniceerd worden. De stem wordt in dit weekend alleen gebruikt voor het reciteren van mantra’s en het zingen van bhajans.  Je zou het kunnen vergelijken met vasten\, niet met het lichaam maar met de geest. Door de communicatie met de buitenwereld te beperken\, geef je je geest zo weinig mogelijk voedsel. Hierdoor wordt je aandacht vanzelf naar binnen gericht. \n\n\n\nPraktische informatie\n\n\n\nDe Stiltedagen worden gehouden in het Amma Centrum en beginnen om 09:00 uur ‘s ochtends en duren tot 20:00 uur ‘s avonds. Als je dat wilt dan kun je al om 06:30 uur komen om samen de Archana te doen. Graag bij  aanmelding aangeven. Je kunt van tevoren overnachten in het Amma Centrum. Neem dan contact op met centrum@amma.nl. \n\n\n\nWe vragen een onkostenvergoeding van € 65\,- inclusief lunch en avondeten. Als je ook voor de Archana komt\, neem dan zelf ontbijt mee. \n\n\n\nEr is ook de mogelijkheid om van tevoren (vrijdagavond) of nadien (zaterdagavond) te overnachten. De prijs van de overnachting bedraagt € 25\,- voor een tweepersoonskamer/slaapzaal en € 35\,-  voor een éénpersoonskamer Je kunt dit aangeven in het opmerkingenveld van het inschrijfformulier. \n\n\nIk meld me aan\n\n\n\n  \n\n\n\nInfo\n\n\n\nAls je vragen hebt dan kun je mailen naar stilte@amma.nl of door een berichtje te sturen naar @AmmaCentrumNederland  (Telegram). \n\n\n\nLeiding\n\n\n\nDe stilte dagen worden geleid door Amarnath Overlaet.Amma heeft deze vorm van stilte beoefening gezegend en heeft aan Amarnath gevraagd om stilte retraties in het Amma Centrum te organiseren. \n\n\n\n\n\n\n\n 
URL:https://amma.nl/agenda/stiltedag/
CATEGORIES:Belangrijke events,Stilteretraite
ATTACH;FMTTYPE=image/png:https://amma.nl/wp-content/uploads/2025/08/Stiltedag-1200-x-675-px1.png
END:VEVENT
BEGIN:VEVENT
DTSTART;TZID=Europe/Amsterdam:20250927T140000
DTEND;TZID=Europe/Amsterdam:20250927T170000
DTSTAMP:20260421T213455
CREATED:20250904T132247Z
LAST-MODIFIED:20250904T133955Z
UID:18993-1758981600-1758992400@amma.nl
SUMMARY:Amma's verjaardag 2025
DESCRIPTION:Viering Amma’s verjaardag 2025\n\n\n\nDit jaar valt Amma’s verjaardag samen met een zaterdag. Daarom is de viering ook op die dag gepland. \n\n\n\nProgramma\n\n\n\n13:30 – 14:00 Inloop met koffie en thee 14:00 – 14:30 Welkomswoord en een korte lezing 14:30 – 15:15 Guru Stotram\, Paduka Puja\, 108 namen van Amma\, korte meditatie 15:15 – 15:45 Pauze met gebak 15:45 – 17:00 Bhajans en Arati \n\n\n\nDe tijden van de verschillende onderdelen zijn indicatief. \n\n\n\nPaduka puja\n\n\n\nNa het zingen van de Guru Stotram volgt tradioneel de Paduka Puja. Dit is een ritueel\, waarbij de Paduka’s (sandalen) van Amma symbolisch vereerd worden vanuit de houding van dankbaarheid. We reciteren tijdens dit ritueel de 108 namen van Amma\, daarna volgt een korte geleide meditatie. \n\n\n\nIn het tweede deel van de viering zingen we met elkaar een aantal bhajans en we sluiten rond 17:00 uur af met de Arati en een korte stilte meditatie. \n\n\n\nAls je iets lekkers wilt meenemen voor tijdens de pauze dan kan je dat melden door een emailtje te sturen naar centrum@amma.nl \n\n\n\n \n\n\n\n\n“Wees voorzichtig om niet verliefd te worden op je ego onder het mom van anderen lief te hebben en hen te dienen.” – Amma
URL:https://amma.nl/agenda/ammas-verjaardag-2025/
CATEGORIES:Belangrijke events,Satsang op zondag
ATTACH;FMTTYPE=image/png:https://amma.nl/wp-content/uploads/2025/09/Viering-Ammas-verjaardag-1200-x-400-px-1.png
END:VEVENT
BEGIN:VEVENT
DTSTART;TZID=Europe/Amsterdam:20250928T140000
DTEND;TZID=Europe/Amsterdam:20250928T170000
DTSTAMP:20260421T213455
CREATED:20250825T091707Z
LAST-MODIFIED:20250917T195742Z
UID:18946-1759068000-1759078800@amma.nl
SUMMARY:Rondleiding Rijksmuseum volgeboekt
DESCRIPTION:Zondagmiddag 28 september: 14:00 – 17:00 uur \n\n\n\nHelaas is deze rondleiding al volgeboekt. De Engelstalige rondleiding op 17 oktober heeft op dit moment nog plaatsen vrij. Als dat niet lukt\, kun je een email sturen naar sadanand.eb@gmail.com \n\n\n\nDevotie en Spirituele Inspiratie in het Rijksmuseum\n\n\n\nEen unieke rondleiding \n\n\n\nSadanand ontmoette Amma in 2005 en heeft een paar jaar bij Amma in Amritapuri gewoond. Hij werkt al ruim 20 jaar als freelance rondleider\, waarvan 12 jaar in het Rijksmuseum. Wij zijn zeer verheugd dat Sadanand een unieke rondleiding in het Rijksmuseum organiseert speciaal voor Amma Nederland. Tijdens deze tour neemt hij ons mee langs kunstwerken uit zowel Nederland als India die devotie en spirituele toewijding uitbeelden. \n\n\n\nHoe werden mensen in de middeleeuwen aangemoedigd om belangeloos anderen te helpen? Wat maakte de Nederlandse devotie zo uniek? En wist je dat Swami Vivekananda altijd een boek van een Nederlandse monnik bij zich droeg? Tijdens de rondleiding ontdek je deze verrassende verbindingen. \n\n\n\nSadanand legt de symboliek achter de kunstwerken uit. Hij laat zien hoe kunstenaars oude verhalen op bijzondere wijze verbeelden. Verhalen die al generaties lang mensen raken\, inspireren en transformeren. \n\n\n\nHet Aziatisch Paviljoen krijgt ook speciale aandacht. Daar bewonderen we onder andere het grootste massieve bronzen Shiva-beeld ter wereld. \n\n\n\nHet Rijksmuseum is beroemd om de Hollandse Meesters uit de 17e eeuw. Denk aan de Nachtwacht van Rembrandt of het Melkmeisje van Vermeer. Natuurlijk komen deze topstukken ook aan bod. Ook hierin vinden we volop symboliek\, spiritualiteit en eeuwenoude inspiratie.  \n\n\n\nMis deze unieke kans niet! \n\n\n\nWat vonden anderen: \n\n\n\n“Ons bezoek aan het Rijksmuseum was onvergetelijk dankzij onze fantastische gids Sadanand\, die elk meesterwerk tot leven bracht met verhalen\, geschiedenis en verborgen details die we anders gemist zouden hebben. \n\n\n\nZijn passie\, helderheid en warme stijl maakten de rondleiding zowel inspirerend als plezierig. Een echte aanrader voor iedereen die het museum bezoekt! \n\n\n\n-Tejas & Sunitha \n\n\n\n“De rondleiding door Sadanand was prachtig! Hij heeft heel veel enthousiasme en zoveel kennis. Het Rijksmuseum is zo groot\, zonder hem had ik gewoon rondgelopen\, maar hij heeft ons heel veel mooie kunstwerken laten zien. Sadanand heeft ons ook de religieuze en spirituele achtergrond van sommige schilderijen en beelden uitgelegd. Door zijn uitleg kon ik de verbinding zien tussen de Christelijke  en de Hindoeïstische kunst. \n\n\n\nWij hadden handige headsets zodat wij zijn stem konden horen\, want het is best druk en soms veel lawaai in het museum. De tour is echt een aanrader!” \n\n\n\n– Padma \n\n\n\nPraktische info\n\n\n\nDe rondleiding duurt drie uur\, inclusief een koffiepauze van circa 20 minuten.  \n\n\n\nDe rondleiding is op donatiebasis. Het richtbedrag is 30 euro per persoon. De opbrengsten worden gebruikt om het bezoek van Amma aan Nederland te financieren.  \n\n\n\nBegintijd: 14:00 uur \n\n\n\nEindtijd: 17:00 uur \n\n\n\nJe dient je eigen entreebewijs te regelen via de Rijkmuseum website: https://www.rijksmuseum.nl/nl/tickets/articles  \n\n\n\nEr zijn twee rondleidingen gepland: \n\n\n\n– Zondag 28 September in het Nederlands \n\n\n\n– Vrijdag 17 oktober in het Engels \n\n\n\nEr kunnen maximaal 12 personen per rondleiding mee\, dus wacht niet te lang met inschrijven! \n\n\n\n \n\n\n\n \n\n\n\n\nRegistratie
URL:https://amma.nl/agenda/rondleiding-rijksmuseum/
CATEGORIES:Amma zondag,Belangrijke events
ATTACH;FMTTYPE=image/jpeg:https://amma.nl/wp-content/uploads/2025/08/Rijksmuseum.jpg
END:VEVENT
END:VCALENDAR