BEGIN:VCALENDAR
VERSION:2.0
PRODID:-//Amma - ECPv6.15.20//NONSGML v1.0//EN
CALSCALE:GREGORIAN
METHOD:PUBLISH
X-WR-CALNAME:Amma
X-ORIGINAL-URL:https://amma.nl
X-WR-CALDESC:Evenementen voor Amma
REFRESH-INTERVAL;VALUE=DURATION:PT1H
X-Robots-Tag:noindex
X-PUBLISHED-TTL:PT1H
BEGIN:VTIMEZONE
TZID:Europe/Amsterdam
BEGIN:DAYLIGHT
TZOFFSETFROM:+0100
TZOFFSETTO:+0200
TZNAME:CEST
DTSTART:20250330T010000
END:DAYLIGHT
BEGIN:STANDARD
TZOFFSETFROM:+0200
TZOFFSETTO:+0100
TZNAME:CET
DTSTART:20251026T010000
END:STANDARD
BEGIN:DAYLIGHT
TZOFFSETFROM:+0100
TZOFFSETTO:+0200
TZNAME:CEST
DTSTART:20260329T010000
END:DAYLIGHT
BEGIN:STANDARD
TZOFFSETFROM:+0200
TZOFFSETTO:+0100
TZNAME:CET
DTSTART:20261025T010000
END:STANDARD
BEGIN:DAYLIGHT
TZOFFSETFROM:+0100
TZOFFSETTO:+0200
TZNAME:CEST
DTSTART:20270328T010000
END:DAYLIGHT
BEGIN:STANDARD
TZOFFSETFROM:+0200
TZOFFSETTO:+0100
TZNAME:CET
DTSTART:20271031T010000
END:STANDARD
END:VTIMEZONE
BEGIN:VEVENT
DTSTART;TZID=Europe/Amsterdam:20260104T140000
DTEND;TZID=Europe/Amsterdam:20260104T160000
DTSTAMP:20260421T153917
CREATED:20251219T213842Z
LAST-MODIFIED:20251219T213909Z
UID:19690-1767535200-1767542400@amma.nl
SUMMARY:Satsang op Zondag
DESCRIPTION:Dit is de eerste keer dat we weer samenkomen na het bezoek van Amma aan Nederland en aan het Amma Centrum. Toen Amma in het Amma Centrum was\, heeft ze een puja gedaan voor het altaar in de grote zaal. Daarom wordt de satsang zondag ook in de grote zaal gehouden.  \n\n\n\nDeze satsang begint om 14:00 uur en is om 16:00 uur afgelopen. Daarna is er gelegenheid voor een kopje thee met iets lekkers. De satsang van aanstaande donderdag komt hiermee te vervallen. \n\n\n\nAls je niet fysiek de satsang kunt meemaken\, dan kun je deze ook online volgen via ons YouTube-kanaal: https://YouTube.com/AmmaCentrumNederland \n\n\n\nEen dag van tevoren sturen we de link door via de Amma Centrum Nederland Whatsapp/Telegram/Signal groepen. \n\n\n\nAanmelden van tevoren is niet nodig. \n\n\n\nKosten\n\n\n\nDe Satsang  is vrij toegankelijk. Een algemene donatie voor het Amma Centrum wordt op prijsgesteld. \n\n\n\n“Zing\, mijn kinderen\, vanuit de diepten van je hart. Laat je hart smelten in gebed. Er is geen grotere vreugde dan het zingen van de naam van God. Bhajans zingen is voor ons alsof je alle vuil dat zich in je hart heeft opgestapeld\, eruit zuivert. Laat al je verlegenheid varen en open je hart voor God”– Amma \n\n\n\n 
URL:https://amma.nl/agenda/satsang-op-zondag-17/
CATEGORIES:Belangrijke events,Satsang op zondag
ATTACH;FMTTYPE=image/jpeg:https://amma.nl/wp-content/uploads/2024/05/Amma-dolak.jpg
END:VEVENT
BEGIN:VEVENT
DTSTART;TZID=Europe/Amsterdam:20260104T140000
DTEND;TZID=Europe/Amsterdam:20260104T170000
DTSTAMP:20260421T153917
CREATED:20251120T085204Z
LAST-MODIFIED:20251201T163519Z
UID:19356-1767535200-1767546000@amma.nl
SUMMARY:Rondleiding Rijksmuseum - Volgeboekt
DESCRIPTION:Deze rondleiding is volgeboekt. Je kan je nog wel opgeven voor een rondleiding op 7 en 12 december \n\n\n\nZondagmiddag 4 januari: 14:00 – 17:00 uur \n\n\n\nDevotie en Spirituele Inspiratie in het Rijksmuseum\n\n\n\nEen unieke rondleiding \n\n\n\nSadanand ontmoette Amma in 2005 en heeft een paar jaar bij Amma in Amritapuri gewoond. Hij werkt al ruim 20 jaar als freelance rondleider\, waarvan 12 jaar in het Rijksmuseum. Wij zijn zeer verheugd dat Sadanand een unieke rondleiding in het Rijksmuseum organiseert speciaal voor Amma Nederland. Tijdens deze tour neemt hij ons mee langs kunstwerken uit zowel Nederland als India die devotie en spirituele toewijding uitbeelden. \n\n\n\nHoe werden mensen in de middeleeuwen aangemoedigd om belangeloos anderen te helpen? Wat maakte de Nederlandse devotie zo uniek? En wist je dat Swami Vivekananda altijd een boek van een Nederlandse monnik bij zich droeg? Tijdens de rondleiding ontdek je deze verrassende verbindingen. \n\n\n\nSadanand legt de symboliek achter de kunstwerken uit. Hij laat zien hoe kunstenaars oude verhalen op bijzondere wijze verbeelden. Verhalen die al generaties lang mensen raken\, inspireren en transformeren. \n\n\n\nHet Aziatisch Paviljoen krijgt ook speciale aandacht. Daar bewonderen we onder andere het grootste massieve bronzen Shiva-beeld ter wereld. \n\n\n\nHet Rijksmuseum is beroemd om de Hollandse Meesters uit de 17e eeuw. Denk aan de Nachtwacht van Rembrandt of het Melkmeisje van Vermeer. Natuurlijk komen deze topstukken ook aan bod. Ook hierin vinden we volop symboliek\, spiritualiteit en eeuwenoude inspiratie.  \n\n\n\nMis deze unieke kans niet! \n\n\n\nWat vonden anderen: \n\n\n\n“Ons bezoek aan het Rijksmuseum was onvergetelijk dankzij onze fantastische gids Sadanand\, die elk meesterwerk tot leven bracht met verhalen\, geschiedenis en verborgen details die we anders gemist zouden hebben. \n\n\n\nZijn passie\, helderheid en warme stijl maakten de rondleiding zowel inspirerend als plezierig. Een echte aanrader voor iedereen die het museum bezoekt! \n\n\n\n-Tejas & Sunitha \n\n\n\n“De rondleiding door Sadanand was prachtig! Hij heeft heel veel enthousiasme en zoveel kennis. Het Rijksmuseum is zo groot\, zonder hem had ik gewoon rondgelopen\, maar hij heeft ons heel veel mooie kunstwerken laten zien. Sadanand heeft ons ook de religieuze en spirituele achtergrond van sommige schilderijen en beelden uitgelegd. Door zijn uitleg kon ik de verbinding zien tussen de Christelijke  en de Hindoeïstische kunst. \n\n\n\nWij hadden handige headsets zodat wij zijn stem konden horen\, want het is best druk en soms veel lawaai in het museum. De tour is echt een aanrader!” \n\n\n\n– Padma \n\n\n\nPraktische info\n\n\n\nDe rondleiding duurt drie uur\, inclusief een koffiepauze van circa 20 minuten.  \n\n\n\nDe rondleiding is op donatiebasis. Het richtbedrag is 35 euro per persoon. De opbrengsten worden gebruikt om het bezoek van Amma aan Nederland te financieren.  \n\n\n\nBegintijd: 14:00 uur \n\n\n\nEindtijd: 17:00 uur \n\n\n\nJe dient je eigen entreebewijs te regelen via de Rijkmuseum website: https://www.rijksmuseum.nl/nl/tickets/articles  \n\n\n\nEr zijn vier rondleidingen gepland: \n\n\n\n– zondag 7 december \n\n\n\n– Vrijdag 12 december \n\n\n\n– Zondag 4 januari \n\n\n\n\n\n\n\n\n\nEr kunnen maximaal 12 personen per rondleiding mee\, dus wacht niet te lang met inschrijven! \n\n\n\nAlle rondleidingen zijn in het Nederlands \n\n\n\n \n\n\n\n\nRegistratie
URL:https://amma.nl/agenda/rondleiding-rijksmuseum-7/
CATEGORIES:Amma zondag,Belangrijke events
ATTACH;FMTTYPE=image/jpeg:https://amma.nl/wp-content/uploads/2025/08/Rijksmuseum.jpg
END:VEVENT
BEGIN:VEVENT
DTSTART;TZID=Europe/Amsterdam:20260110T153000
DTEND;TZID=Europe/Amsterdam:20260110T170000
DTSTAMP:20260421T153917
CREATED:20251219T213402Z
LAST-MODIFIED:20260109T120047Z
UID:19686-1768059000-1768064400@amma.nl
SUMMARY:Kirtan met Marieke - afgelast
DESCRIPTION:Zaterdag 10 januari – 15:30 – 17:00 uur\n\n\n\nDeze kirtan is vanwege onzekere weersomstandigheden en onregelmatig Openbaar Vervoer\, afgelast. De  volgende kirtan is op zaterdag 14 februari. \n\n\n\nDe volgende kirtan vindt plaats op zaterdag 10 januari van 15:30 tot 17:00\, inclusief thee drinken na afloop. Inloop vanaf 15:00 uur. Zoals voorheen is de toegang gratis\, je hoeft je niet op te geven. Een donatie voor het Amma Centrum (richtprijs 12\,50) wordt zeer op prijs gesteld. \n\n\n\nKirtan is ook wel bekend als mantra-zingen. Het houdt in dat er in een groep mantra’s worden gezongen\, vaak met muziekinstrumenten zoals het harmonium\, om de geest te kalmeren\, het hart te openen en een gevoel van verbinding te creëren. Kirtan is een meditatieve praktijk\, die helpt bij het verstillen van de geest en het concentreren van je gedachten. \n\n\n\nKirtan zingen is voor velen een makkelijke manier om de vreugde van het bestaan zelf te ervaren. Je hoeft er niet goed voor te kunnen zingen. Laat je gewoon meevoeren door de stroom…
URL:https://amma.nl/agenda/kirtan-met-marieke-3/
CATEGORIES:Belangrijke events,Feestdagen,Wekelijkse events
ATTACH;FMTTYPE=image/png:https://amma.nl/wp-content/uploads/2025/07/Kirtan-met-Marieke2.png
END:VEVENT
BEGIN:VEVENT
DTSTART;TZID=Europe/Amsterdam:20260111T134500
DTEND;TZID=Europe/Amsterdam:20260111T170000
DTSTAMP:20260421T153917
CREATED:20251215T215714Z
LAST-MODIFIED:20260105T113703Z
UID:19647-1768139100-1768150800@amma.nl
SUMMARY:Van Goghmuseum Tour - inschrijving gesloten
DESCRIPTION:Van Gogh-museum Tour\n\n\n\nZondag 11 januari – van 13:45 – 17:00 uur\n\n\n\n\n\n\n\nDe inschrijving voor deze tour is gesloten. Mogelijk dat er in februari nog een nieuwe tour wordt georganiseerd. \n\n\n\nSpeciaal voor Amma Nederland biedt Sadanand\, freelance rondleider in het Rijksmuseum en het Van Goghmuseum\, deze bijzondere tour aan als fundraising actie. \n\n\n\nOp deze rondleiding neemt Sadanand je mee op een reis langs de schilderijen en het leven van Vincent van Gogh. Voor deze gelegenheid gaan we ook dieper in op de spirituele kant van deze wereldberoemde kunstenaar. \n\n\n\nWist je bijvoorbeeld dat hij eerst geprobeerd had dominee te worden? Later\, nadat hij schilder werd\, toonde hij meer interesse in de levendige verbeelding van de natuur waar hij spirituele troost uit putte. Eén van zijn voornaamste doelen was die troost die hij vond in schoonheid en natuur over te brengen in zijn kunstwerken. \n\n\n\nTijdens deze tour gaan we na of hij werkelijk altijd zo depressief was als hij zichzelf schilderde. Was hij echt altijd arm? En waarom komen bij hem zijn kleuren zo expressief over? Wist je dat hij bijna de helft van zijn cariere als schilder hele donkere schilderijen voortbracht? Wat gebeurde er met zijn oor? En natuurlijk de rol van broer en zijn weduwe “Jo”\, die hem uiteindelijk wereldberoemd maakte. \n\n\n\nIn het Van Gogh Museum hangen 200 van zijn schilderijen en het is daarmee de grootste Van Gogh collectie in de wereld. Het is één van de weinige plekken waar je bijna al zijn kunststijlen kan vinden en daarmee ook automatisch inzicht kan krijgen waarom hij zo belangrijk is in de kunstgeschiedenis. \n\n\n\nPraktische informatie\n\n\n\nWe gaan dus gezamenlijk op 1 ticket naar binnen. Het is daarom belangrijk om op tijd te komen.Ontmoetingspunt: bij de groepsingang van het Van Gogh museum. Dit is de oude ingang van het museum direct grenzend aan de Paulus Potterstraat (waar trams 2 en 12 rijden). \n\n\n\nKosten: € 35\,- \n\n\n\nAanvang: 13:45 uur \n\n\n\nOok op zaterdag 24 januari is er een rondleiding gepland.
URL:https://amma.nl/agenda/19647/
CATEGORIES:Belangrijke events,Feestdagen
END:VEVENT
BEGIN:VEVENT
DTSTART;TZID=Europe/Amsterdam:20260117T100000
DTEND;TZID=Europe/Amsterdam:20260117T130000
DTSTAMP:20260421T153917
CREATED:20260111T120137Z
LAST-MODIFIED:20260111T162003Z
UID:19733-1768644000-1768654800@amma.nl
SUMMARY:Familie opstellingen
DESCRIPTION:Aanstaande zaterdag 17 januari is er nog plaats voor representanten bij familieopstellingen aangeboden door Ozrenka. Deze sessie wordt door Ozrenka aangeboden als fundraising actie om de kosten van Amma´s programma te dekken. \n\n\n\nWat zijn familie opstellingen?\n\n\n\nFamilieopstellingen zijn een systemische werkvorm om onbewuste patronen en dynamieken binnen een familie of ander systeem zichtbaar te maken\, zodat er inzicht en heling kan ontstaan. De methode\, ontwikkeld door Bert Hellinger\, visualiseert de sociale structuur van een familie door middel van representanten (andere mensen) die de rollen van familieleden aannemen. Dit leidt tot een  ‘persoon van het systeem” waarin verborgen emoties\, loyaliteit en “verstrikkingen” worden getoond\, wat de weg opent naar verandering en bevrijding van beperkende patronen.   \n\n\n\nHoe werkt een familie opstelling?\n\n\n\nDe vraagsteller en het thema:Iemand brengt een persoonlijk vraagstuk of probleem in\, zoals bindingsangst\, terugkerende ruzies\, of een gevoel van minderwaardigheid.Representanten kiezen:  De vraagsteller kiest uit de groep andere deelnemers die als representanten de rol van familieleden of andere belangrijke personen aannemen.  De opstelling:  De representanten worden in de ruimte geplaatst\, afhankelijk van de intuïtie van de vraagsteller en de begeleiding van een coach.  Zichtbaar worden van dynamieken:  De representanten voelen gevoelens en sensaties die horen bij de persoon die ze vertegenwoordigen. Dit creëert een “visuele weergave” van de onderliggende dynamieken en verstrikkingen binnen het systeem.  Inzicht en bevrijding:  Door de bewegingen\, posities en verhoudingen in de opstelling te observeren en met elkaar te verbinden\, krijgt de vraagsteller diepgaand inzicht in de onbewuste oorzaken van zijn of haar problemen. De begeleider kan interventies doen\, zoals het stellen van vragen of het laten uitspreken van helende zinnen\, om beweging en verandering in het systeem te brengen.   \n\n\n\nWaarom een familie opstelling?\n\n\n\nInzicht in patronen:  Familieopstellingen helpen je te begrijpen hoe patronen uit het verleden generaties lang worden doorgegeven en vandaag de dag nog steeds je leven beïnvloeden.Oplossen van problemen:Ze kunnen een oplossing bieden voor terugkerende problemen\, zoals moeilijkheden in relaties\, moeite met te vinden van je eigen plek. Een opstelling kan inzicht geven in de oorsprong van dit patroon.  Door dit aan te kijken ontstaat er ruimte voor verandering.Bevrijding van verstrikkingen:De methode biedt een manier om je liefdevol los te maken uit “verstrikkingen” en je eigen plek in te nemen binnen het systeem.Erkennen wat er is:Het proces bevordert het erkennen van de werkelijkheid van het systeem\, wat nodig is voor heling en het in beweging komen naar een nieuwe fase.   \n\n\n\nJe kunt je voor de sessie aanstaande zaterdag alleen aanmelden als representant.  \n\n\n\nPraktische informatie\n\n\n\nTarief: representant: € 45Alle opbrengsten gaan naar Amma Nederland \n\n\n\nJe bent welkom vanaf 9.30 We starten om 10 uur en eindigen om 13 uur.Wij verzorgen koffie\, thee\, vers fruit en kleine versnaperingen. Je zorgt zelf voor je lunch (er is eventueel een koelkast beschikbaar). \n\n\n\nAdres: Virieusingel 8\, te ZaltbommelParkeren is gratis. \n\n\n\n \n\n\n\n\nInschrijven\n\n\n\n\n \n\n\n\nWie is Ozrenka?\n\n\n\nOzrenka is een ervaren therapeute met een aanpak van geduld\, kracht\, en liefde. Voor meer achtergrondinformatie over Ozrenka: https://www.praktijkbhaktie.nl/ozrenka-knezevic/
URL:https://amma.nl/agenda/familie-opstellingen-2/
CATEGORIES:Belangrijke events
END:VEVENT
BEGIN:VEVENT
DTSTART;TZID=Europe/Amsterdam:20260124T140000
DTEND;TZID=Europe/Amsterdam:20260124T180000
DTSTAMP:20260421T153917
CREATED:20260111T171717Z
LAST-MODIFIED:20260116T154130Z
UID:19738-1769263200-1769277600@amma.nl
SUMMARY:Workshop Indiaas koken - volgeboekt
DESCRIPTION:Zaterdag 24 januari  14:00 – 18:00 uur\n\n\n\nDeze kookworkshop heeft veel belangstelling. We zijn daardoor jammer genoeg verplicht om de registratie voor deze workshop te sluiten. Als je interesse hebt dan kun je een mailtje sturen naar Centrum@amma.nl en kunnen we je op de hoogte houden van mogelijke toekomstige workshops.\n\n\n\n \n\n\n\nHet bedenken van Indiase gerechten voelt soms alsof je een kleurrijk\, geurend kruidenlabyrint binnenstapt. Welke specerij gebruik je wanneer? En in welke volgorde? \n\n\n\nMoet je ze roosteren\, bakken\, kneuzen… of juist pureren? \n\n\n\nEn hoe tem je de vurige chili zonder de betoverende smaken te verliezen? \n\n\n\nStap binnen in onze bruisende Indiase kookworkshop\, gegeven door Jayashree — voor wie koken niet zomaar een bezigheid is\, maar pure levensvreugde. In deze interactieve sessie neemt ze je mee op een smaakvolle reis door de wereld van traditionele Indiase kruiden. Samen bereiden jullie\, helemaal from scratch\, een authentieke tweegangenmaaltijd. En natuurlijk schuiven we aan het einde gezellig samen aan tafel om ervan te genieten. \n\n\n\nDe workshop is voor iedereen toegankelijk — of je nu voor het eerst Indiase kruiden vasthoudt of al graag experimenteert in de keuken. Je hebt geen voorkennis nodig\, alleen nieuwsgierigheid en zin om te proeven. \n\n\n\nDe workshop wordt gegeven in het Engels én Nederlands. Elke deelnemer krijgt een handige hand-out mee naar huis. \n\n\n\n\n\n\n\nThinking of cooking Indian dishes can feel like stepping into a spice maze.What goes where? …and in what order? \n\n\n\nDo you fry them? Or blend them? \n\n\n\nHow to turn down the chili heat without losing the magic of flavours? \n\n\n\nJoin us for a hands-on Indian cooking workshop led by Jayashree\, for whom cooking has always been at the heart of everyday life. In this interactive session\, she will guide you through the world of traditional Indian spices while preparing an authentic two-course meal step by step\, entirely from scratch — and you’ll get to enjoy the food together at the end. \n\n\n\nThe workshop is open to everyone — whether you are new to Indian cooking or already enjoy spending time in the kitchen. No prior knowledge is needed\, just curiosity and a love for good food. The workshop will be given in English and Dutch. At the end – all participants will receive a handout. \n\n\n\nProgrram\n\n\n\n⁠1. Walk in (coffee and tea) @ 2pm – 30 mins2.⁠ ⁠Introduction to Indian spices and special ingredients to be used – 20 mins3.⁠ ⁠⁠Cooking part 1 – 1.5 hours4.⁠ ⁠⁠Break – 20 mins5.⁠ ⁠Cooking part 2 (incl. food decoration) – 1 hour6.⁠ ⁠⁠Eat Pray Connect \n\n\n\nAbout Jayashree:\n\n\n\nWith over 25 years of experience preparing both North and South Indian dishes\, her journey in the kitchen has been about nourishing not only bodies\, but also hearts. From cooking for family and friends to serving meals at several community gatherings\, she sees sharing food as a quiet yet beautiful way of expressing love.
URL:https://amma.nl/agenda/indiaas-koken/
CATEGORIES:Belangrijke events,Feestdagen,Wekelijkse events
ATTACH;FMTTYPE=image/png:https://amma.nl/wp-content/uploads/2025/07/Kirtan-met-Marieke2.png
END:VEVENT
BEGIN:VEVENT
DTSTART;TZID=Europe/Amsterdam:20260131T090000
DTEND;TZID=Europe/Amsterdam:20260131T200000
DTSTAMP:20260421T153917
CREATED:20260103T153221Z
LAST-MODIFIED:20260103T160554Z
UID:19710-1769850000-1769889600@amma.nl
SUMMARY:Stiltedag
DESCRIPTION:Zaterdag 31 januari van 09:00 – 20:00 uur\n\n\n\n \n\n\n\nStilte is de essentie van het leven. Tijdens deze stilte-retraites willen we het contact met onze innerlijke essentie versterken. \n\n\n\nDe essentie van stilte is niet het “niet spreken”\, het “niet communiceren”\, maar de verstilling van de geest. Onze geest is van nature naar buitengericht. Via de zintuigen wordt de wereld in ons opgenomen en onze wensen en verlangens bewegen ons tot actie om ze te realiseren. \n\n\n\nWe leven in een zeer gejaagde wereld die onze zintuigen voortdurend bombardeert met sterke sensaties en onze verlangens voortdurend prikkelt.  We dreigen daardoor het contact met onze eigen innerlijke kern te verliezen en geleefd te worden door de omstandigheden buiten ons. Door stilte beoefening wordt onze aandacht vanzelf naar binnengericht en kan het contact met onze eigen essentie weer hersteld / versterkt worden. \n\n\n\nStilte beoefening is een vorm van sadhana (spirituele oefening) die je bij alle grote wereldgodsdiensten terugvindt. Volgens de Christelijke traditie leidt de beoefening van stilte je naar  je eigen ziel en via de ziel naar God. Ook Amma zegt dat we alleen in de diepte van zuivere stilte Gods stem kunnen horen. \n\n\n\nNaar binnen richten\n\n\n\nDe retraites zijn erop gericht om praktische technieken aan te dragen en te beoefenen\, die een verstilling van de geest vergemakkelijken. Deze technieken zijn vrij eenvoudig aan te leren en kunnen achteraf ook thuis beoefend worden. Wij zullen deze technieken tijdens de retraite voornamelijk in groep beoefenen. Je kunt dan denken aan het reciteren van de 1.000 namen van de Goddelijke Moeder\, het gezamelijk reciteren van de Gayatri Mantra\, eenvoudige pranayama oefeningen\, geleide relaxatie oefeningen en geleide meditaties. \n\n\n\nEr wordt van de deelnemers gevraagd om vanaf de start van de retraite na de introductie-lezing tot de afsluiting bij de evaluatie\, niet te spreken en de communicatie met andere deelnemers of de staf tot een minimum te beperken. Alleen als het om praktische reden noodzakelijk is kan er met gebarentaal of schriftelijk gecommuniceerd worden. De stem wordt in dit weekend alleen gebruikt voor het reciteren van mantra’s en het zingen van bhajans.  Je zou het kunnen vergelijken met vasten\, niet met het lichaam maar met de geest. Door de communicatie met de buitenwereld te beperken\, geef je je geest zo weinig mogelijk voedsel. Hierdoor wordt je aandacht vanzelf naar binnen gericht. \n\n\n\nPraktische informatie\n\n\n\nDe Stiltedagen worden gehouden in het Amma Centrum en beginnen om 09:00 uur ‘s ochtends en duren tot 20:00 uur ‘s avonds. Als je dat wilt dan kun je al om 06:30 uur komen om samen de Archana te doen. Graag bij  aanmelding aangeven. Je kunt van tevoren overnachten in het Amma Centrum. Neem dan contact op met centrum@amma.nl. \n\n\n\nWe vragen een onkostenvergoeding van € 65\,- inclusief lunch en avondeten. Als je ook voor de Archana komt\, neem dan zelf ontbijt mee. \n\n\n\nEr is ook de mogelijkheid om van tevoren (vrijdagavond) of nadien (zaterdagavond) te overnachten. De prijs van de overnachting bedraagt € 25\,- voor een tweepersoonskamer/slaapzaal en € 35\,-  voor een éénpersoonskamer Je kunt dit aangeven in het opmerkingenveld van het inschrijfformulier. \n\n\nIk meld me aan\n\n\n\n  \n\n\n\nInfo\n\n\n\nAls je vragen hebt dan kun je mailen naar stilte@amma.nl  \n\n\n\nLeiding\n\n\n\nDe stilte dagen worden geleid door Amarnath Overlaet.Amma heeft deze vorm van stilte beoefening gezegend en heeft aan Amarnath gevraagd om stilte retraties in het Amma Centrum te organiseren. \n\n\n\n\n\n\n\n 
URL:https://amma.nl/agenda/stiltedag-3/
CATEGORIES:Belangrijke events,Stilteretraite
ATTACH;FMTTYPE=image/png:https://amma.nl/wp-content/uploads/2025/08/Stiltedag-1200-x-675-px1.png
END:VEVENT
END:VCALENDAR