BEGIN:VCALENDAR
VERSION:2.0
PRODID:-//Amma - ECPv6.15.20//NONSGML v1.0//EN
CALSCALE:GREGORIAN
METHOD:PUBLISH
X-ORIGINAL-URL:https://amma.nl
X-WR-CALDESC:Evenementen voor Amma
REFRESH-INTERVAL;VALUE=DURATION:PT1H
X-Robots-Tag:noindex
X-PUBLISHED-TTL:PT1H
BEGIN:VTIMEZONE
TZID:Europe/Amsterdam
BEGIN:DAYLIGHT
TZOFFSETFROM:+0100
TZOFFSETTO:+0200
TZNAME:CEST
DTSTART:20250330T010000
END:DAYLIGHT
BEGIN:STANDARD
TZOFFSETFROM:+0200
TZOFFSETTO:+0100
TZNAME:CET
DTSTART:20251026T010000
END:STANDARD
BEGIN:DAYLIGHT
TZOFFSETFROM:+0100
TZOFFSETTO:+0200
TZNAME:CEST
DTSTART:20260329T010000
END:DAYLIGHT
BEGIN:STANDARD
TZOFFSETFROM:+0200
TZOFFSETTO:+0100
TZNAME:CET
DTSTART:20261025T010000
END:STANDARD
BEGIN:DAYLIGHT
TZOFFSETFROM:+0100
TZOFFSETTO:+0200
TZNAME:CEST
DTSTART:20270328T010000
END:DAYLIGHT
BEGIN:STANDARD
TZOFFSETFROM:+0200
TZOFFSETTO:+0100
TZNAME:CET
DTSTART:20271031T010000
END:STANDARD
END:VTIMEZONE
BEGIN:VEVENT
DTSTART;TZID=Europe/Amsterdam:20260301T140000
DTEND;TZID=Europe/Amsterdam:20260301T160000
DTSTAMP:20260421T132252
CREATED:20260202T144930Z
LAST-MODIFIED:20260202T144936Z
UID:19801-1772373600-1772380800@amma.nl
SUMMARY:Satsang op Zondag
DESCRIPTION:Dit is de eerste keer dat we weer samenkomen na het bezoek van Amma aan Nederland en aan het Amma Centrum. Toen Amma in het Amma Centrum was\, heeft ze een puja gedaan voor het altaar in de grote zaal. Daarom wordt de satsang zondag ook in de grote zaal gehouden.  \n\n\n\nDeze satsang begint om 14:00 uur en is om 16:00 uur afgelopen. Daarna is er gelegenheid voor een kopje thee met iets lekkers. De satsang van aanstaande donderdag komt hiermee te vervallen. \n\n\n\nAls je niet fysiek de satsang kunt meemaken\, dan kun je deze ook online volgen via ons YouTube-kanaal: https://YouTube.com/AmmaCentrumNederland \n\n\n\nEen dag van tevoren sturen we de link door via de Amma Centrum Nederland Whatsapp/Telegram/Signal groepen. \n\n\n\nAanmelden van tevoren is niet nodig. \n\n\n\nKosten\n\n\n\nDe Satsang  is vrij toegankelijk. Een algemene donatie voor het Amma Centrum wordt op prijsgesteld. \n\n\n\n“Zing\, mijn kinderen\, vanuit de diepten van je hart. Laat je hart smelten in gebed. Er is geen grotere vreugde dan het zingen van de naam van God. Bhajans zingen is voor ons alsof je alle vuil dat zich in je hart heeft opgestapeld\, eruit zuivert. Laat al je verlegenheid varen en open je hart voor God”– Amma \n\n\n\n 
URL:https://amma.nl/agenda/satsang-op-zondag-19/
CATEGORIES:Belangrijke events,Satsang op zondag
ATTACH;FMTTYPE=image/jpeg:https://amma.nl/wp-content/uploads/2024/05/Amma-dolak.jpg
END:VEVENT
BEGIN:VEVENT
DTSTART;TZID=Europe/Amsterdam:20260328T090000
DTEND;TZID=Europe/Amsterdam:20260328T200000
DTSTAMP:20260421T132252
CREATED:20260306T091713Z
LAST-MODIFIED:20260323T220900Z
UID:19963-1774688400-1774728000@amma.nl
SUMMARY:Stiltedag - volgeboekt
DESCRIPTION:Zaterdag 28 maart van 09:00 – 20:00 uur\n\n\n\nDeze stiltedag is volgeboekt.  De volgende stiltedag is  op  25 april. Je kan je daar hier voor opgeven. \n\n\n\nStilte is de essentie van het leven. Tijdens deze stilte-retraites willen we het contact met onze innerlijke essentie versterken. \n\n\n\nDe essentie van stilte is niet het “niet spreken”\, het “niet communiceren”\, maar de verstilling van de geest. Onze geest is van nature naar buitengericht. Via de zintuigen wordt de wereld in ons opgenomen en onze wensen en verlangens bewegen ons tot actie om ze te realiseren. \n\n\n\nWe leven in een zeer gejaagde wereld die onze zintuigen voortdurend bombardeert met sterke sensaties en onze verlangens voortdurend prikkelt.  We dreigen daardoor het contact met onze eigen innerlijke kern te verliezen en geleefd te worden door de omstandigheden buiten ons. Door stilte beoefening wordt onze aandacht vanzelf naar binnengericht en kan het contact met onze eigen essentie weer hersteld / versterkt worden. \n\n\n\nStilte beoefening is een vorm van sadhana (spirituele oefening) die je bij alle grote wereldgodsdiensten terugvindt. Volgens de Christelijke traditie leidt de beoefening van stilte je naar  je eigen ziel en via de ziel naar God. Ook Amma zegt dat we alleen in de diepte van zuivere stilte Gods stem kunnen horen. \n\n\n\nNaar binnen richten\n\n\n\nDe retraites zijn erop gericht om praktische technieken aan te dragen en te beoefenen\, die een verstilling van de geest vergemakkelijken. Deze technieken zijn vrij eenvoudig aan te leren en kunnen achteraf ook thuis beoefend worden. Wij zullen deze technieken tijdens de retraite voornamelijk in groep beoefenen. Je kunt dan denken aan het reciteren van de 1.000 namen van de Goddelijke Moeder\, het gezamelijk reciteren van de Gayatri Mantra\, eenvoudige pranayama oefeningen\, geleide relaxatie oefeningen en geleide meditaties. \n\n\n\nEr wordt van de deelnemers gevraagd om vanaf de start van de retraite na de introductie-lezing tot de afsluiting bij de evaluatie\, niet te spreken en de communicatie met andere deelnemers of de staf tot een minimum te beperken. Alleen als het om praktische reden noodzakelijk is kan er met gebarentaal of schriftelijk gecommuniceerd worden. De stem wordt in dit weekend alleen gebruikt voor het reciteren van mantra’s en het zingen van bhajans.  Je zou het kunnen vergelijken met vasten\, niet met het lichaam maar met de geest. Door de communicatie met de buitenwereld te beperken\, geef je je geest zo weinig mogelijk voedsel. Hierdoor wordt je aandacht vanzelf naar binnen gericht. \n\n\n\nPraktische informatie\n\n\n\nDe Stiltedagen worden gehouden in het Amma Centrum en beginnen om 09:00 uur ‘s ochtends en duren tot 20:00 uur ‘s avonds. Als je dat wilt dan kun je al om 06:30 uur komen om samen de Archana te doen. Graag bij  aanmelding aangeven. Je kunt van tevoren overnachten in het Amma Centrum. Neem dan contact op met centrum@amma.nl. \n\n\n\nWe vragen een onkostenvergoeding van € 65\,- inclusief lunch en avondeten. Als je ook voor de Archana komt\, neem dan zelf ontbijt mee. \n\n\n\nEr is ook de mogelijkheid om van tevoren (vrijdagavond) of nadien (zaterdagavond) te overnachten. De prijs van de overnachting bedraagt € 25\,- voor een tweepersoonskamer/slaapzaal en € 35\,-  voor een éénpersoonskamer Je kunt dit aangeven in het opmerkingenveld van het inschrijfformulier. \n\n\n\n  \n\n\n\nInfo\n\n\n\nAls je vragen hebt dan kun je mailen naar stilte@amma.nl  \n\n\n\nLeiding\n\n\n\nDe stilte dagen worden geleid door Amarnath Overlaet.Amma heeft deze vorm van stilte beoefening gezegend en heeft aan Amarnath gevraagd om stilte retraties in het Amma Centrum te organiseren. \n\n\n\n\n\n\n\n 
URL:https://amma.nl/agenda/stiltedag-5/
CATEGORIES:Belangrijke events,Stilteretraite
ATTACH;FMTTYPE=image/jpeg:https://amma.nl/wp-content/uploads/2026/01/Stiltedag-Banner-28.02-scaled.jpg
END:VEVENT
END:VCALENDAR